BEGIN:VCALENDAR
VERSION:2.0
PRODID:-//Synergy Health Partners - ECPv6.15.15//NONSGML v1.0//EN
CALSCALE:GREGORIAN
METHOD:PUBLISH
X-WR-CALNAME:Synergy Health Partners
X-ORIGINAL-URL:https://choosesynergy.com
X-WR-CALDESC:Events for Synergy Health Partners
REFRESH-INTERVAL;VALUE=DURATION:PT1H
X-Robots-Tag:noindex
X-PUBLISHED-TTL:PT1H
BEGIN:VTIMEZONE
TZID:UTC
BEGIN:STANDARD
TZOFFSETFROM:+0000
TZOFFSETTO:+0000
TZNAME:UTC
DTSTART:20250101T000000
END:STANDARD
END:VTIMEZONE
BEGIN:VEVENT
DTSTART;TZID=UTC:20260302T080000
DTEND;TZID=UTC:20260306T170000
DTSTAMP:20260420T201905
CREATED:20251209T224251Z
LAST-MODIFIED:20260121T020738Z
UID:10000007-1772438400-1772816400@choosesynergy.com
SUMMARY:American Academy of Orthopedic Surgeons (AAOS)
DESCRIPTION:AAOS 2026\nWhat: AAOS 2026 is the world’s largest gathering of musculoskeletal health specialists\, bringing together over 39\,000 orthopaedic surgeons\, researchers\, and allied health professionals to explore cutting-edge research\, hands-on education\, and the latest technology. \nWhen: March 2–6\, 2026 \nWhy: Celebrate a decade of orthopedic excellence while attendees immerse themselves in interactive sessions and innovations in the massive Exhibit Hall. Discover how orthopedic surgeons achieve sustainable careers through the Surgicalist model—combining professional excellence with true work-life balance through 7-10 day monthly schedules\, dedicated hospital partnerships\, and real time off. Connect with orthopedic Surgicalists who’ve made the transition and learn why Synergy is #1 in Orthopedic Surgicalist programs. \nWhere: Booth #2802 – New Orleans\, LA \nSynergy’s Annual Cocktail Reception\n\nJoin Synergy Health Partners for our Annual Cocktail Reception and connect with orthopedic surgeons who have discovered the freedom of the Surgicalist model in top hospital programs nationwide.\n \nWhen: Wednesday\, March 4th\nTime: 6 – 9 p.m.\nLocation: The Cypress Room at Pier 424 Seafood Market\nAddress: 424 Bourbon Street\, New Orleans\, LA\, 70130
URL:https://choosesynergy.com/event/american-academy-of-orthopedic-surgeons-aaos-synergys-10th-annual-cocktail-2/
ATTACH;FMTTYPE=image/jpeg:https://choosesynergy.com/wp-content/uploads/2025/09/New-Orleans1.jpg
END:VEVENT
BEGIN:VEVENT
DTSTART;TZID=UTC:20260304T180000
DTEND;TZID=UTC:20260304T210000
DTSTAMP:20260420T201905
CREATED:20251209T210611Z
LAST-MODIFIED:20260121T173322Z
UID:10000012-1772647200-1772658000@choosesynergy.com
SUMMARY:Synergy’s Annual Cocktail Reception
DESCRIPTION:Wednesday\, March 4th @ 6 – 9 p.m.\nThe Cypress Room at Pier 424 Seafood Market\n424 Bourbon Street\, New Orleans\, LA 70130\n  \nJoin Synergy Health Partners for our Annual Cocktail Reception and connect with us and learn how orthopedic surgeons have discovered the freedom of the Surgicalist model in top hospital programs nationwide. \nEnjoy lively conversation and a touch of New Orleans magic\, including tarot card readings and authentic Louisiana fun. This exclusive gathering brings together clinical leaders\, industry innovators\, and peers for an evening of connection\, celebration\, and the rich culture that defines New Orleans. \n 
URL:https://choosesynergy.com/event/synergys-annual-cocktail-reception/
LOCATION:The Cypress Room\, 424 Bourbon Street\, New Orleans\, LA\, 70130
ATTACH;FMTTYPE=image/jpeg:https://choosesynergy.com/wp-content/uploads/2025/12/bourbon-street.jpg
END:VEVENT
END:VCALENDAR