BEGIN:VCALENDAR
VERSION:2.0
PRODID:-//Synergy Health Partners - ECPv6.15.15//NONSGML v1.0//EN
CALSCALE:GREGORIAN
METHOD:PUBLISH
X-ORIGINAL-URL:https://choosesynergy.com
X-WR-CALDESC:Events for Synergy Health Partners
REFRESH-INTERVAL;VALUE=DURATION:PT1H
X-Robots-Tag:noindex
X-PUBLISHED-TTL:PT1H
BEGIN:VTIMEZONE
TZID:UTC
BEGIN:STANDARD
TZOFFSETFROM:+0000
TZOFFSETTO:+0000
TZNAME:UTC
DTSTART:20250101T000000
END:STANDARD
END:VTIMEZONE
BEGIN:VEVENT
DTSTART;TZID=UTC:20260422T080000
DTEND;TZID=UTC:20260425T170000
DTSTAMP:20260420T162429
CREATED:20251121T150358Z
LAST-MODIFIED:20260129T143756Z
UID:10000008-1776844800-1777136400@choosesynergy.com
SUMMARY:American Osteopathic Academy of Orthopedics (AOAO)
DESCRIPTION:What: The AOAO Annual Spring Meeting is the premier gathering for osteopathic orthopedic surgeons\, offering CME-accredited education and networking opportunities in a focused\, collegial environment. Stop by Synergy Health Partners’ booth and learn how orthopedic surgeons are building sustainable careers through the Surgicalist model at hospitals across the country. \nWhen: April 23–25\, 2026 \nWhy: As AOAO members explore the latest clinical research and surgical techniques in orthopedics\, visit our booth to discover how the Surgicalist model eliminates call burnout while maintaining clinical excellence. Through dedicated hospital partnerships\, you’ll work 7-10 consecutive days per month with genuine time off in between—no office overhead\, no practice management stress\, just focused surgical care that aligns with both your professional goals and personal priorities. \nWhere: Booth #207 – Caribe Royale Orlando\, Orlando\, FL
URL:https://choosesynergy.com/event/american-osteopathic-academy-of-orthopedics-aoao-2/
ATTACH;FMTTYPE=image/jpeg:https://choosesynergy.com/wp-content/uploads/2025/11/Orlando.jpg
END:VEVENT
BEGIN:VEVENT
DTSTART;TZID=UTC:20260427T080000
DTEND;TZID=UTC:20260429T170000
DTSTAMP:20260420T162429
CREATED:20251121T152525Z
LAST-MODIFIED:20260403T200707Z
UID:10000009-1777276800-1777482000@choosesynergy.com
SUMMARY:Trauma Critical Care Acute Care Surgery (TCCACS)
DESCRIPTION:What: Mattox Vegas TCCACS has become the world’s best-attended trauma and critical care conference\, selling out for over 12 consecutive years with 1\,300+ attendees from 48-50 states and 20-25 countries. Meet with Synergy Health Partners to explore acute care and trauma surgery positions that deliver consistent schedules\, comprehensive support\, and the collaborative environment trauma surgeons deserve. \nWhen: April 27–29\, 2026 \nWhy: This 57-year legacy event brings together practicing trauma surgeons\, acute care specialists\, and critical care physicians to address critical\, practical issues in surgery and trauma care with cutting-edge knowledge from military surgeons and field leaders. Stop by our booth to learn how the Surgicalist model provides 24/7 hospital-based trauma coverage without the chaos of traditional on-call arrangements—embedded team structures\, evidence-based protocols\, and clinical autonomy with predictable shifts that give you real time to recharge. \nWhere: Booth #204– Caesars Palace\, Las Vegas\, NV \nWe are #1 in Surgicalist programs and we look forward to meeting you.
URL:https://choosesynergy.com/event/trauma-critical-care-acute-care-surgery-tccacs/
ATTACH;FMTTYPE=image/jpeg:https://choosesynergy.com/wp-content/uploads/2025/11/las_vegas.jpg
END:VEVENT
END:VCALENDAR